BEGIN:VCALENDAR
VERSION:2.0
PRODID:icalendar-ruby
CALSCALE:GREGORIAN
METHOD:PUBLISH
BEGIN:VEVENT
DTSTAMP:20260421T114408Z
UID:221-73268@mtolivephc.com
DTSTART:20260503T143000Z
DTEND:20260503T170000Z
CLASS:PUBLIC
CREATED:20260409T153300
DESCRIPTION:As believers\, coming together to worship\, praise\, and connec
 t with one another is not only a privilege but also a source of great joy 
 and strength. This is a time for us to grow spiritually and explore the ri
 cheness of God's Word and His teachings.\nJoin us as Senior Pastor Stevie 
 Jacobs shares what God has placed on his heart. We look forward to coming 
 together for this time of word\, worship\, and fellowship.
LAST-MODIFIED:20260409T153300
LOCATION:Mt Olive PH Church
SUMMARY:Sunday Morning Worship
URL;VALUE=URI:https://www.mtolivephc.com/events/sunday-morning-worship--221
 /2026-05-03
ATTACH;FILENAME=1.png;FMTTYPE=image/png:https://dq5pwpg1q8ru0.cloudfront.ne
 t/2026/04/09/19/18/33/45932580-07fb-4c9f-940e-3c5fcae88e0b/1.png
END:VEVENT
END:VCALENDAR
