BEGIN:VCALENDAR
VERSION:2.0
PRODID:icalendar-ruby
CALSCALE:GREGORIAN
METHOD:PUBLISH
BEGIN:VEVENT
DTSTAMP:20260421T102015Z
UID:213-73267@mtolivephc.com
DTSTART:20260426T143000Z
DTEND:20260426T170000Z
CLASS:PUBLIC
CREATED:20260409T153239
DESCRIPTION:As believers\, coming together to worship\, praise\, and connec
 t with one another is not only a privilege but also a source of great joy 
 and strength. This is a time for us to grow spiritually and explore the ri
 cheness of God's Word and His teachings.\nJoin us as Associate Pastor Bo J
 acobs shares what God has placed on his heart. We look forward to coming t
 ogether for this time of word\, worship\, and fellowship.
LAST-MODIFIED:20260409T153239
LOCATION:Mt Olive PH Church
SUMMARY:Sunday Morning Worship
URL;VALUE=URI:https://www.mtolivephc.com/events/sunday-morning-worship--213
 /2026-04-26
ATTACH;FILENAME=1.png;FMTTYPE=image/png:https://dq5pwpg1q8ru0.cloudfront.ne
 t/2026/03/30/16/00/17/3f362925-5475-4f53-a4f7-6c0f83a07352/1.png
ATTACH;FILENAME=334940133_3345447402341069_450211365795843636_n.jpg;FMTTYPE
 =image/jpeg:https://dq5pwpg1q8ru0.cloudfront.net/2026/03/30/16/00/17/a61fb
 131-9119-4cc0-8d46-eadf1f8f6705/334940133_3345447402341069_450211365795843
 636_n.jpg
END:VEVENT
END:VCALENDAR
