BEGIN:VCALENDAR
VERSION:2.0
PRODID:icalendar-ruby
CALSCALE:GREGORIAN
METHOD:PUBLISH
BEGIN:VEVENT
DTSTAMP:20260419T140008Z
UID:218-73242@mtolivephc.com
DTSTART:20260415T230000Z
DTEND:20260416T003000Z
CLASS:PUBLIC
CREATED:20260401T093516
DESCRIPTION:We’re excited for you to connect and grow alongside our minis
 try leaders! This is a great opportunity to build meaningful relationships
 \, deepen your faith\, and walk out life together in community. We encoura
 ge everyone to get plugged in and be a part of what God is doing through o
 ur Small Groups.\nStay tuned for more information from the ministry team l
 eader that you serve on!
LAST-MODIFIED:20260401T093516
LOCATION:
SUMMARY:Small Groups Night
URL;VALUE=URI:https://www.mtolivephc.com/events/small-groups-night/2026-04-
 15
ATTACH;FILENAME=Full.jpg;FMTTYPE=image/jpeg:https://dq5pwpg1q8ru0.cloudfron
 t.net/2026/04/01/13/27/47/d73fc14f-7f64-4be3-9109-fbd3bfc1a3e3/Full.jpg
END:VEVENT
END:VCALENDAR
