BEGIN:VCALENDAR
VERSION:2.0
PRODID:icalendar-ruby
CALSCALE:GREGORIAN
METHOD:PUBLISH
BEGIN:VEVENT
DTSTAMP:20260421T083223Z
UID:211-73223@mtolivephc.com
DTSTART:20260419T143000Z
DTEND:20260419T170000Z
CLASS:PUBLIC
CREATED:20260330T120958
DESCRIPTION:Join us for Family and Friends Sunday as we gather to celebrate
  the beauty of community and the blessing of coming together in God’s ho
 use. There is something powerful about uniting in worship\, encouraging on
 e another\, and growing together in faith.\nBring your family\, invite you
 r friends\, and come experience the love\, fellowship\, and connection tha
 t happens when we gather in God’s presence. Together\, we uplift one ano
 ther\, build lasting relationships\, and are reminded that we are stronger
  together.\nCome expecting a powerful word as Minister Justin Hunt shares 
 what God has placed on his heart.\n\n\n
LAST-MODIFIED:20260330T120958
LOCATION:Mt Olive PH Church
SUMMARY:Family and Friends Sunday
URL;VALUE=URI:https://www.mtolivephc.com/events/family-and-friends-sunday--
 211/2026-04-19
ATTACH;FILENAME=1.png;FMTTYPE=image/png:https://dq5pwpg1q8ru0.cloudfront.ne
 t/2026/03/30/14/31/48/74ee5a31-c2a2-4868-916b-bfd86f6cae4d/1.png
ATTACH;FILENAME=A7300337-2.JPEG;FMTTYPE=image/jpeg:https://dq5pwpg1q8ru0.cl
 oudfront.net/2026/03/30/14/33/20/83844fbe-88c7-4e54-be79-9282ef60138c/A730
 0337-2.JPEG
END:VEVENT
END:VCALENDAR
