BEGIN:VCALENDAR
VERSION:2.0
PRODID:icalendar-ruby
CALSCALE:GREGORIAN
METHOD:PUBLISH
BEGIN:VEVENT
DTSTAMP:20260421T102430Z
UID:208-73284@mtolivephc.com
DTSTART:20260429T230000Z
DTEND:20260430T003000Z
CLASS:PUBLIC
CREATED:20260409T155429
DESCRIPTION:Join us for Coffee and Conversations with Pastor Stevie and Mam
 a E. This will be a relaxed and welcoming time to share fellowship\, enjo
 y coffee\, ask questions\, and be encouraged through meaningful conversati
 on and wisdom. Everyone is welcome!
LAST-MODIFIED:20260409T155429
LOCATION:Mt Olive PH Church
SUMMARY:Coffee and Conversations
URL;VALUE=URI:https://www.mtolivephc.com/events/coffee-and-conversations--2
 08/2026-04-29
ATTACH;FILENAME=6.png;FMTTYPE=image/png:https://dq5pwpg1q8ru0.cloudfront.ne
 t/2026/03/30/12/57/12/eada7f3b-5652-487f-88fe-af33393b5092/6.png
END:VEVENT
END:VCALENDAR
